BEGIN:VCALENDAR
VERSION:2.0
PRODID:-//wp-events-plugin.com//7.2.3.1//EN
TZID:Europe/Berlin
X-WR-TIMEZONE:Europe/Berlin
BEGIN:VEVENT
UID:80@jedentagmusik.de
DTSTART;TZID=Europe/Berlin:20211025T170000
DTEND;TZID=Europe/Berlin:20211025T210000
DTSTAMP:20210726T090423Z
URL:https://jedentagmusik.de/fortbildungen/wenn-lieder-tanzen-euskirchen/
SUMMARY:Wenn Lieder tanzen\, Euskirchen
DESCRIPTION:\n"Wenn Lieder tanzen"\nReferent: Gerd Müller\n\nPreis: 70€ 
 inkl. 7% MwSt und Lieder-Heft mit CD\n\n-&gt\;Zur Fortbildungsseite\n\nNac
 h der Buchung erhälst du eine automatisierte Bestätigungsmail.\nWenn wir
  deine Buchung geprüft haben\, erhälst du eine weitere Mail von uns mit 
 der Bestätigung.\n\nSpezielle Wünsche\, Anmerkungen oder Fragen in Zusam
 menhang mit deiner Buchung?\nSchreib es in das Kommentarfeld und wir melde
 n uns bei dir.
CATEGORIES:Gerd Müller,Wenn Lieder tanzen
LOCATION:Kath. Pfarrheim St. Nikolaus\, Euskirchen\, Zur Tomberger Mühle 1
 0\, Euskirchen\, Nordrhein-Westfalen\, 53881\, Nordrhein-Westfalen\, Deuts
 chland
X-APPLE-STRUCTURED-LOCATION;VALUE=URI;X-ADDRESS=Zur Tomberger Mühle 10\, E
 uskirchen\, Nordrhein-Westfalen\, 53881\, Nordrhein-Westfalen\, Deutschlan
 d;X-APPLE-RADIUS=100;X-TITLE=Kath. Pfarrheim St. Nikolaus\, Euskirchen:geo
 :0,0
END:VEVENT
BEGIN:VTIMEZONE
TZID:Europe/Berlin
X-LIC-LOCATION:Europe/Berlin
BEGIN:DAYLIGHT
DTSTART:20210328T030000
TZOFFSETFROM:+0100
TZOFFSETTO:+0200
TZNAME:CEST
END:DAYLIGHT
END:VTIMEZONE
END:VCALENDAR