BEGIN:VCALENDAR
VERSION:2.0
PRODID:-//wp-events-plugin.com//7.2.3.1//EN
TZID:Europe/Berlin
X-WR-TIMEZONE:Europe/Berlin
BEGIN:VEVENT
UID:313@jedentagmusik.de
DTSTART;TZID=Europe/Berlin:20230419T090000
DTEND;TZID=Europe/Berlin:20230419T130000
DTSTAMP:20230103T143851Z
URL:https://jedentagmusik.de/fortbildungen/rennschnecken-sausen-in-die-wel
 t-stade/
SUMMARY:Rennschnecken sausen in die Welt\, Stade
DESCRIPTION:\n"Rennschnecken sausen in die Welt"\nReferent: Carsten "Cattu"
  van den Berg\n\nPreis: 80€ inkl. 7% MwSt und Lieder-Heft mit CD\n\n-&gt
 \;Zur Fortbildungsseite\n\nNach der Buchung erhälst du eine automatisiert
 e Bestätigungsmail.\nWenn wir deine Buchung geprüft haben\, erhälst du 
 eine weitere Mail von uns mit der Bestätigung. Dies kann etwas Zeit in An
 spruch nehmen.\n\nSpezielle Wünsche\, Anmerkungen oder Fragen in Zusammen
 hang mit deiner Buchung?\nSchreib es in das Kommentarfeld und wir melden u
 ns bei dir.
CATEGORIES:Cattu,Rennschnecken sausen in die Welt
LOCATION:DRK Kreisverband Stade e.V.\, Stade\, Am Hofacker 5\, Stade\, Nied
 ersachsen\, 21682\, Niedersachsen\, Deutschland
X-APPLE-STRUCTURED-LOCATION;VALUE=URI;X-ADDRESS=Am Hofacker 5\, Stade\, Nie
 dersachsen\, 21682\, Niedersachsen\, Deutschland;X-APPLE-RADIUS=100;X-TITL
 E=DRK Kreisverband Stade e.V.\, Stade:geo:0,0
END:VEVENT
BEGIN:VTIMEZONE
TZID:Europe/Berlin
X-LIC-LOCATION:Europe/Berlin
BEGIN:DAYLIGHT
DTSTART:20230326T030000
TZOFFSETFROM:+0100
TZOFFSETTO:+0200
TZNAME:CEST
END:DAYLIGHT
END:VTIMEZONE
END:VCALENDAR