BEGIN:VCALENDAR
VERSION:2.0
PRODID:-//wp-events-plugin.com//7.2.3.1//EN
TZID:Europe/Berlin
X-WR-TIMEZONE:Europe/Berlin
BEGIN:VEVENT
UID:116@jedentagmusik.de
DTSTART;TZID=Europe/Berlin:20220519T090000
DTEND;TZID=Europe/Berlin:20220519T130000
DTSTAMP:20220106T084736Z
URL:https://jedentagmusik.de/fortbildungen/rennschnecken-sausen-in-die-wel
 t-giessen/
SUMMARY:Rennschnecken sausen in die Welt\, Gießen
DESCRIPTION:\n"Rennschnecken sausen in die Welt"\nReferent: Carsten "Cattu"
  van den Berg\n\nPreis: 70€ inkl. 7% MwSt und Lieder-Heft mit CD\n\n-&gt
 \;Zur Fortbildungsseite\n\nNach der Buchung erhälst du eine automatisiert
 e Bestätigungsmail.\nWenn wir deine Buchung geprüft haben\, erhälst du 
 eine weitere Mail von uns mit der Bestätigung.\n\nSpezielle Wünsche\, An
 merkungen oder Fragen in Zusammenhang mit deiner Buchung?\nSchreib es in d
 as Kommentarfeld und wir melden uns bei dir.
CATEGORIES:Cattu,Rennschnecken sausen in die Welt
LOCATION:ZIBB\, Zentrum für kulturelle Bildung und Bewegung\, Gießen\, Ha
 nnah-Arendt-Straße 10\, Gießen\, Hessen\, 35394\, Hessen\, Deutschland
X-APPLE-STRUCTURED-LOCATION;VALUE=URI;X-ADDRESS=Hannah-Arendt-Straße 10\, 
 Gießen\, Hessen\, 35394\, Hessen\, Deutschland;X-APPLE-RADIUS=100;X-TITLE
 =ZIBB\, Zentrum für kulturelle Bildung und Bewegung\, Gießen:geo:0,0
END:VEVENT
BEGIN:VTIMEZONE
TZID:Europe/Berlin
X-LIC-LOCATION:Europe/Berlin
BEGIN:DAYLIGHT
DTSTART:20220327T030000
TZOFFSETFROM:+0100
TZOFFSETTO:+0200
TZNAME:CEST
END:DAYLIGHT
END:VTIMEZONE
END:VCALENDAR