BEGIN:VCALENDAR
VERSION:2.0
PRODID:-//wp-events-plugin.com//7.2.3.1//EN
TZID:Europe/Berlin
X-WR-TIMEZONE:Europe/Berlin
BEGIN:VEVENT
UID:622@jedentagmusik.de
DTSTART;TZID=Europe/Berlin:20251105T090000
DTEND;TZID=Europe/Berlin:20251105T130000
DTSTAMP:20250827T101212Z
URL:https://jedentagmusik.de/fortbildungen/ohren-auf-singen-bewegen-natur-
 entdecken-hildesheim/
SUMMARY:Ohren auf! Singen\, bewegen\, Natur entdecken\, Hildesheim
DESCRIPTION:\n"Ohren auf! Singen\, bewegen\, Natur entdecken"\nReferent: An
 nette Sperling\n\nPreis: 90€ inkl. 7% MwSt und Lieder-Heft mit CD\n\n-&g
 t\;Zur Fortbildungsseite\n\nNach der Buchung erhältst du eine automatisie
 rte Bestätigungsmail.\nWenn wir deine Buchung geprüft haben\, erhältst 
 du eine weitere Mail von uns. Das Geld wird in Bar vor Ort fällig.\n\nSpe
 zielle Wünsche\, Anmerkungen oder Fragen in Zusammenhang mit deiner Buchu
 ng?\nSchreib es in das Kommentarfeld und wir melden uns bei dir.
CATEGORIES:Annette Sperling,Ohren auf! Singen, bewegen, Natur entdecken
LOCATION:Ev.-Luth. Kirchengemeinde Zwölf Apostel\, Hildesheim\, Zwölf-Apo
 stel-Weg 6-8\, Hildesheim\, Niedersachsen\, 31139\, Niedersachsen\, Deutsc
 hland
X-APPLE-STRUCTURED-LOCATION;VALUE=URI;X-ADDRESS=Zwölf-Apostel-Weg 6-8\, Hi
 ldesheim\, Niedersachsen\, 31139\, Niedersachsen\, Deutschland;X-APPLE-RAD
 IUS=100;X-TITLE=Ev.-Luth. Kirchengemeinde Zwölf Apostel\, Hildesheim:geo:
 0,0
END:VEVENT
BEGIN:VTIMEZONE
TZID:Europe/Berlin
X-LIC-LOCATION:Europe/Berlin
BEGIN:STANDARD
DTSTART:20251026T020000
TZOFFSETFROM:+0200
TZOFFSETTO:+0100
TZNAME:CET
END:STANDARD
END:VTIMEZONE
END:VCALENDAR