BEGIN:VCALENDAR
VERSION:2.0
PRODID:-//wp-events-plugin.com//7.2.3.1//EN
TZID:Europe/Berlin
X-WR-TIMEZONE:Europe/Berlin
BEGIN:VEVENT
UID:617@jedentagmusik.de
DTSTART;TZID=Europe/Berlin:20251027T090000
DTEND;TZID=Europe/Berlin:20251027T130000
DTSTAMP:20250818T083921Z
URL:https://jedentagmusik.de/fortbildungen/ohren-auf-singen-bewegen-natur-
 entdecken-goettingen/
SUMMARY:Ohren auf! Singen\, bewegen\, Natur entdecken\, Göttingen
DESCRIPTION:\n"Ohren auf! Singen\, bewegen\, Natur entdecken"\nReferent: An
 nette Sperling\n\nPreis: 90€ inkl. 7% MwSt und Lieder-Heft mit CD\n\n-&g
 t\;Zur Fortbildungsseite\n\nNach der Buchung erhältst du eine automatisie
 rte Bestätigungsmail.\nWenn wir deine Buchung geprüft haben\, erhältst 
 du eine weitere Mail von uns. Das Geld wird in Bar vor Ort fällig.\n\nSpe
 zielle Wünsche\, Anmerkungen oder Fragen in Zusammenhang mit deiner Buchu
 ng?\nSchreib es in das Kommentarfeld und wir melden uns bei dir.
CATEGORIES:Annette Sperling,Ohren auf! Singen, bewegen, Natur entdecken
LOCATION:Gemeindehaus der ev.-luth. Friedenskirchengemeinde\, Göttingen\, 
 Auf dem Hagen 23\, Göttingen\, Niedersachsen\, 37079\, Niedersachsen\, De
 utschland
X-APPLE-STRUCTURED-LOCATION;VALUE=URI;X-ADDRESS=Auf dem Hagen 23\, Götting
 en\, Niedersachsen\, 37079\, Niedersachsen\, Deutschland;X-APPLE-RADIUS=10
 0;X-TITLE=Gemeindehaus der ev.-luth. Friedenskirchengemeinde\, Göttingen:
 geo:0,0
END:VEVENT
BEGIN:VTIMEZONE
TZID:Europe/Berlin
X-LIC-LOCATION:Europe/Berlin
BEGIN:STANDARD
DTSTART:20251026T020000
TZOFFSETFROM:+0200
TZOFFSETTO:+0100
TZNAME:CET
END:STANDARD
END:VTIMEZONE
END:VCALENDAR