BEGIN:VCALENDAR
VERSION:2.0
PRODID:-//wp-events-plugin.com//7.2.3.1//EN
TZID:Europe/Berlin
X-WR-TIMEZONE:Europe/Berlin
BEGIN:VEVENT
UID:548@jedentagmusik.de
DTSTART;TZID=Europe/Berlin:20250401T170000
DTEND;TZID=Europe/Berlin:20250401T210000
DTSTAMP:20250105T194211Z
URL:https://jedentagmusik.de/fortbildungen/musikalisch-durch-den-morgenkre
 is-magdeburg-nachmittag/
SUMMARY:Musikalisch durch den Morgenkreis\, Magdeburg Nachmittag
DESCRIPTION:\n\n"Musikalisch durch den Morgenkreis"\n\nReferentin: Lucia Ru
 f (Referentin)\n\nPreis: 90€ inkl. 7% MwSt\n(Im Preis enthalten sind jew
 eils das Heft als Downloadversion\, sowie die Musik in Digitaler Form.)\n\
 nIn dem Seminar findet ihr tolle neue Ideen und Lieder für den musikalisc
 hen Morgenkreis. Begrüßungslieder\, Lieder zur besseren Körperwahrnehmu
 ng\, spezielle Lieder für die Jahreszeiten Frühling und Sommer\, sowie w
 underschöne Abschiedslieder und Lieder für den Alltag.\n\nNach der Buchu
 ng erhälst du eine automatisierte Bestätigungsmail.\nWenn wir deine Buch
 ung geprüft haben\, erhälst du eine weitere Mail von uns mit der Rechnun
 g über deine Buchung. Dies kann etwas Zeit in Anspruch nehmen.\n\nSpeziel
 le Wünsche\, Anmerkungen oder Fragen in Zusammenhang mit deiner Buchung?\
 nSchreib es in das Kommentarfeld und wir melden uns bei dir.
ATTACH;FMTTYPE=image/jpeg:https://jedentagmusik.de/wp-content/uploads/2023
 /01/musikalisch-durch-den-Morgenkreis.png
CATEGORIES:Lucia Ruf,Musikalisch durch den Morgenkreis
LOCATION:Ev. Matthäusgemeinde\, Magdeburg\, Freiherr-vom-Stein-Straße 45\
 , Magdeburg\, Sachsen-Anhalt\, 39108\, Sachsen-Anhalt\, Deutschland
X-APPLE-STRUCTURED-LOCATION;VALUE=URI;X-ADDRESS=Freiherr-vom-Stein-Straße 
 45\, Magdeburg\, Sachsen-Anhalt\, 39108\, Sachsen-Anhalt\, Deutschland;X-A
 PPLE-RADIUS=100;X-TITLE=Ev. Matthäusgemeinde\, Magdeburg:geo:0,0
END:VEVENT
BEGIN:VTIMEZONE
TZID:Europe/Berlin
X-LIC-LOCATION:Europe/Berlin
BEGIN:DAYLIGHT
DTSTART:20250330T030000
TZOFFSETFROM:+0100
TZOFFSETTO:+0200
TZNAME:CEST
END:DAYLIGHT
END:VTIMEZONE
END:VCALENDAR