BEGIN:VCALENDAR
VERSION:2.0
PRODID:-//wp-events-plugin.com//7.2.3.1//EN
TZID:Europe/Berlin
X-WR-TIMEZONE:Europe/Berlin
BEGIN:VEVENT
UID:616@jedentagmusik.de
DTSTART;TZID=Europe/Berlin:20251121T090000
DTEND;TZID=Europe/Berlin:20251121T130000
DTSTAMP:20250826T085239Z
URL:https://jedentagmusik.de/fortbildungen/mit-musik-durch-den-tag-st-augu
 stin/
SUMMARY:Mit Musik durch den Tag\, St. Augustin
DESCRIPTION:\n"Mit Musik durch den Tag"\nReferent: Eva Rausch\n\nPreis: 90
 € inkl. 7% MwSt und Lieder-Heft mit CD\n\n-&gt\;Zur Fortbildungsseite\n\
 nNach der Buchung erhältst du eine automatisierte Bestätigungsmail.\nWen
 n wir deine Buchung geprüft haben\, erhältst du eine weitere Mail von un
 s. Das Geld wird in Bar vor Ort fällig.\n\nSpezielle Wünsche\, Anmerkung
 en oder Fragen in Zusammenhang mit deiner Buchung?\nSchreib es in das Komm
 entarfeld und wir melden uns bei dir.
CATEGORIES:Eva Rausch,Mit Musik durch den Tag
LOCATION:Ev. Gemeindezentrum\, St. Augustin-Menden\, Von-Galen-Straße 28\,
  St. Augustin\, Nordrhein-Westfalen\, 53757\, Nordrhein-Westfalen\, Deutsc
 hland
X-APPLE-STRUCTURED-LOCATION;VALUE=URI;X-ADDRESS=Von-Galen-Straße 28\, St. 
 Augustin\, Nordrhein-Westfalen\, 53757\, Nordrhein-Westfalen\, Deutschland
 ;X-APPLE-RADIUS=100;X-TITLE=Ev. Gemeindezentrum\, St. Augustin-Menden:geo:
 0,0
END:VEVENT
BEGIN:VTIMEZONE
TZID:Europe/Berlin
X-LIC-LOCATION:Europe/Berlin
BEGIN:STANDARD
DTSTART:20251026T020000
TZOFFSETFROM:+0200
TZOFFSETTO:+0100
TZNAME:CET
END:STANDARD
END:VTIMEZONE
END:VCALENDAR