BEGIN:VCALENDAR
VERSION:2.0
PRODID:-//wp-events-plugin.com//7.2.3.1//EN
TZID:Europe/Berlin
X-WR-TIMEZONE:Europe/Berlin
BEGIN:VEVENT
UID:585@jedentagmusik.de
DTSTART;TZID=Europe/Berlin:20250604T090000
DTEND;TZID=Europe/Berlin:20250604T130000
DTSTAMP:20250110T112123Z
URL:https://jedentagmusik.de/fortbildungen/lieder-in-bewegung-6-schweinfur
 t/
SUMMARY:Lieder in Bewegung 6\, Schweinfurt
DESCRIPTION:\n"Lieder in Bewegung 6"\nReferent: Gerd Müller\n\nPreis: 90
 € inkl. 7% MwSt und Lieder-Heft mit CD\n\n-&gt\;Zur Fortbildungsseite\n\
 nNach der Buchung erhälst du eine automatisierte Bestätigungsmail.\nWenn
  wir deine Buchung geprüft haben\, erhälst du eine weitere Mail von uns.
  Das Geld wird in Bar vor Ort fällig.\n\nSpezielle Wünsche\, Anmerkungen
  oder Fragen in Zusammenhang mit deiner Buchung?\nSchreib es in das Kommen
 tarfeld und wir melden uns bei dir.
CATEGORIES:30 Jahre musikalische Fortbildungen,Gerd Müller
LOCATION:Pfarrzentrum St. Kilian\, Schweinfurt\, Friedrich-Stein-Straße 30
 \, Schweinfurt\, Bayern\, 97421\, Bayern\, Deutschland
X-APPLE-STRUCTURED-LOCATION;VALUE=URI;X-ADDRESS=Friedrich-Stein-Straße 30\
 , Schweinfurt\, Bayern\, 97421\, Bayern\, Deutschland;X-APPLE-RADIUS=100;X
 -TITLE=Pfarrzentrum St. Kilian\, Schweinfurt:geo:0,0
END:VEVENT
BEGIN:VTIMEZONE
TZID:Europe/Berlin
X-LIC-LOCATION:Europe/Berlin
BEGIN:DAYLIGHT
DTSTART:20250330T030000
TZOFFSETFROM:+0100
TZOFFSETTO:+0200
TZNAME:CEST
END:DAYLIGHT
END:VTIMEZONE
END:VCALENDAR