BEGIN:VCALENDAR
VERSION:2.0
PRODID:-//wp-events-plugin.com//7.2.3.1//EN
TZID:Europe/Berlin
X-WR-TIMEZONE:Europe/Berlin
BEGIN:VEVENT
UID:287@jedentagmusik.de
DTSTART;TZID=Europe/Berlin:20230418T170000
DTEND;TZID=Europe/Berlin:20230418T210000
DTSTAMP:20230103T135235Z
URL:https://jedentagmusik.de/fortbildungen/lieder-in-bewegung-6-schwaebisc
 h-hall/
SUMMARY:Lieder in Bewegung 6\, Schwäbisch Hall
DESCRIPTION:\n"Lieder in Bewegung 6"\nReferent: Gerd Müller\n\nPreis: 80
 € inkl. 7% MwSt und Lieder-Heft mit CD\n\n-&gt\;Zur Fortbildungsseite\n\
 nNach der Buchung erhälst du eine automatisierte Bestätigungsmail.\nWenn
  wir deine Buchung geprüft haben\, erhälst du eine weitere Mail von uns 
 mit der Rechnung über deine Buchung. Dies kann etwas Zeit in Anspruch neh
 men.\n\nSpezielle Wünsche\, Anmerkungen oder Fragen in Zusammenhang mit d
 einer Buchung?\nSchreib es in das Kommentarfeld und wir melden uns bei dir
 .
CATEGORIES:30 Jahre musikalische Fortbildungen,Gerd Müller
LOCATION:Kath. Kirchengemeinde St. Markus\, Schwäbisch Hall\, Hagenbacher 
 Ring 209\, Schwäbisch Hall\, Baden-Württemberg\, 74523\, Baden-Württemb
 erg\, Deutschland
X-APPLE-STRUCTURED-LOCATION;VALUE=URI;X-ADDRESS=Hagenbacher Ring 209\, Schw
 äbisch Hall\, Baden-Württemberg\, 74523\, Baden-Württemberg\, Deutschla
 nd;X-APPLE-RADIUS=100;X-TITLE=Kath. Kirchengemeinde St. Markus\, Schwäbis
 ch Hall:geo:0,0
END:VEVENT
BEGIN:VTIMEZONE
TZID:Europe/Berlin
X-LIC-LOCATION:Europe/Berlin
BEGIN:DAYLIGHT
DTSTART:20230326T030000
TZOFFSETFROM:+0100
TZOFFSETTO:+0200
TZNAME:CEST
END:DAYLIGHT
END:VTIMEZONE
END:VCALENDAR