BEGIN:VCALENDAR
VERSION:2.0
PRODID:-//wp-events-plugin.com//7.2.3.1//EN
TZID:Europe/Berlin
X-WR-TIMEZONE:Europe/Berlin
BEGIN:VEVENT
UID:493@jedentagmusik.de
DTSTART;TZID=Europe/Berlin:20241030T090000
DTEND;TZID=Europe/Berlin:20241030T130000
DTSTAMP:20240220T062613Z
URL:https://jedentagmusik.de/fortbildungen/lieder-in-bewegung-6-moers/
SUMMARY:Lieder in Bewegung 6\, Moers
DESCRIPTION:\n"Lieder in Bewegung 6"\nReferent: Gerd Müller\n\nPreis: 80
 € inkl. 7% MwSt und Lieder-Heft mit CD\n\n-&gt\;Zur Fortbildungsseite\n\
 nNach der Buchung erhälst du eine automatisierte Bestätigungsmail.\nWenn
  wir deine Buchung geprüft haben\, erhälst du eine weitere Mail von uns 
 mit der Rechnung über deine Buchung.\n\nSpezielle Wünsche\, Anmerkungen 
 oder Fragen in Zusammenhang mit deiner Buchung?\nSchreib es in das Komment
 arfeld und wir melden uns bei dir.
CATEGORIES:30 Jahre musikalische Fortbildungen,Gerd Müller
LOCATION:Kath. Pfarrheim St. Bonifatius Asberg\, Moers\, Bonifatuisstraße 
 104\, Moers\, Nordrhein-Westfalen\, 47441\, Nordrhein-Westfalen\, Deutschl
 and
X-APPLE-STRUCTURED-LOCATION;VALUE=URI;X-ADDRESS=Bonifatuisstraße 104\, Moe
 rs\, Nordrhein-Westfalen\, 47441\, Nordrhein-Westfalen\, Deutschland;X-APP
 LE-RADIUS=100;X-TITLE=Kath. Pfarrheim St. Bonifatius Asberg\, Moers:geo:0,
 0
END:VEVENT
BEGIN:VTIMEZONE
TZID:Europe/Berlin
X-LIC-LOCATION:Europe/Berlin
BEGIN:STANDARD
DTSTART:20241027T020000
TZOFFSETFROM:+0200
TZOFFSETTO:+0100
TZNAME:CET
END:STANDARD
END:VTIMEZONE
END:VCALENDAR