BEGIN:VCALENDAR
VERSION:2.0
PRODID:-//wp-events-plugin.com//7.2.3.1//EN
TZID:Europe/Berlin
X-WR-TIMEZONE:Europe/Berlin
BEGIN:VEVENT
UID:566@jedentagmusik.de
DTSTART;TZID=Europe/Berlin:20250514T090000
DTEND;TZID=Europe/Berlin:20250514T130000
DTSTAMP:20250110T104903Z
URL:https://jedentagmusik.de/fortbildungen/lieder-in-bewegung-6-kalbe/
SUMMARY:Lieder in Bewegung 6\, Kalbe
DESCRIPTION:\n"Lieder in Bewegung 6"\nReferent: Gerd Müller\n\nPreis: 90
 € inkl. 7% MwSt und Lieder-Heft mit CD\n\n-&gt\;Zur Fortbildungsseite\n\
 nNach der Buchung erhälst du eine automatisierte Bestätigungsmail.\nWenn
  wir deine Buchung geprüft haben\, erhälst du eine weitere Mail von uns.
  Das Geld wird in Bar vor Ort fällig.\n\nSpezielle Wünsche\, Anmerkungen
  oder Fragen in Zusammenhang mit deiner Buchung?\nSchreib es in das Kommen
 tarfeld und wir melden uns bei dir.
CATEGORIES:30 Jahre musikalische Fortbildungen,Gerd Müller
LOCATION:Dorfgemeinschaftshaus Kalbe(Milde)\, Kakerbecker Dorfstraße 142\,
  Kalbe\, Sachsen-Anhalt\, 39624\, Sachsen-Anhalt\, Deutschland
X-APPLE-STRUCTURED-LOCATION;VALUE=URI;X-ADDRESS=Kakerbecker Dorfstraße 142
 \, Kalbe\, Sachsen-Anhalt\, 39624\, Sachsen-Anhalt\, Deutschland;X-APPLE-R
 ADIUS=100;X-TITLE=Dorfgemeinschaftshaus Kalbe(Milde):geo:0,0
END:VEVENT
BEGIN:VTIMEZONE
TZID:Europe/Berlin
X-LIC-LOCATION:Europe/Berlin
BEGIN:DAYLIGHT
DTSTART:20250330T030000
TZOFFSETFROM:+0100
TZOFFSETTO:+0200
TZNAME:CEST
END:DAYLIGHT
END:VTIMEZONE
END:VCALENDAR