BEGIN:VCALENDAR
VERSION:2.0
PRODID:-//wp-events-plugin.com//7.2.3.1//EN
TZID:Europe/Berlin
X-WR-TIMEZONE:Europe/Berlin
BEGIN:VEVENT
UID:596@jedentagmusik.de
DTSTART;TZID=Europe/Berlin:20250923T090000
DTEND;TZID=Europe/Berlin:20250923T130000
DTSTAMP:20250818T083248Z
URL:https://jedentagmusik.de/fortbildungen/lieder-in-bewegung-6-die-belieb
 testen-lieder-aus-4-jahrzehnten-rudolstadt/
SUMMARY:Lieder in Bewegung 6 - die beliebtesten Lieder aus 4 Jahrzehnten\, 
 Rudolstadt
DESCRIPTION:\n"Lieder in Bewegung 6 - die beliebtesten Lieder aus 4 Jahrzeh
 nten"\nReferent: Gerd Müller\n\nPreis: 90€ inkl. 7% MwSt und Lieder-Hef
 t mit CD\n\n-&gt\;Zur Fortbildungsseite\n\nNach der Buchung erhälst du ei
 ne automatisierte Bestätigungsmail.\nWenn wir deine Buchung geprüft habe
 n\, erhälst du eine weitere Mail von uns. Das Geld wird in Bar vor Ort f
 ällig.\n\nSpezielle Wünsche\, Anmerkungen oder Fragen in Zusammenhang mi
 t deiner Buchung?\nSchreib es in das Kommentarfeld und wir melden uns bei 
 dir.
CATEGORIES:30 Jahre musikalische Fortbildungen,Gerd Müller
LOCATION:Altes Ratskeller\, Stiftsgasse 2\, Rudolstadt\, Thüringen\, 07407
 \, Deutschland
X-APPLE-STRUCTURED-LOCATION;VALUE=URI;X-ADDRESS=Stiftsgasse 2\, Rudolstadt\
 , Thüringen\, 07407\, Deutschland;X-APPLE-RADIUS=100;X-TITLE=Altes Ratske
 ller:geo:0,0
END:VEVENT
BEGIN:VTIMEZONE
TZID:Europe/Berlin
X-LIC-LOCATION:Europe/Berlin
BEGIN:DAYLIGHT
DTSTART:20250330T030000
TZOFFSETFROM:+0100
TZOFFSETTO:+0200
TZNAME:CEST
END:DAYLIGHT
END:VTIMEZONE
END:VCALENDAR