BEGIN:VCALENDAR
VERSION:2.0
PRODID:-//wp-events-plugin.com//7.2.3.1//EN
TZID:Europe/Berlin
X-WR-TIMEZONE:Europe/Berlin
BEGIN:VEVENT
UID:603@jedentagmusik.de
DTSTART;TZID=Europe/Berlin:20251021T170000
DTEND;TZID=Europe/Berlin:20251021T210000
DTSTAMP:20250818T083718Z
URL:https://jedentagmusik.de/fortbildungen/lieder-in-bewegung-4-da-tanzt-d
 as-schwein-auf-einem-bein-bad-homburg/
SUMMARY:Lieder in Bewegung Workshop 7 - Im Wald ist was los\, Bad Homburg
DESCRIPTION:\n"Lieder in Bewegung Workshop 7"\nReferent: Gerd Müller\n\nPr
 eis: 90€ inkl. 7% MwSt und Lieder-Heft mit CD\n\n-&gt\;Zur Fortbildungss
 eite\n\nNach der Buchung erhälst du eine automatisierte Bestätigungsmail
 .\nWenn wir deine Buchung geprüft haben\, erhälst du eine weitere Mail v
 on uns. Das Geld wird in Bar vor Ort fällig.\n\nSpezielle Wünsche\, Anme
 rkungen oder Fragen in Zusammenhang mit deiner Buchung?\nSchreib es in das
  Kommentarfeld und wir melden uns bei dir.
CATEGORIES:Gerd Müller,Im Wald ist was los
LOCATION:Kettelerhaus\, Wiesbaden\, Breslauer Straße 1\, Wiesbaden\, Hesse
 n\, 65203\, Hessen\, Deutschland
X-APPLE-STRUCTURED-LOCATION;VALUE=URI;X-ADDRESS=Breslauer Straße 1\, Wiesb
 aden\, Hessen\, 65203\, Hessen\, Deutschland;X-APPLE-RADIUS=100;X-TITLE=Ke
 ttelerhaus\, Wiesbaden:geo:0,0
END:VEVENT
BEGIN:VTIMEZONE
TZID:Europe/Berlin
X-LIC-LOCATION:Europe/Berlin
BEGIN:DAYLIGHT
DTSTART:20250330T030000
TZOFFSETFROM:+0100
TZOFFSETTO:+0200
TZNAME:CEST
END:DAYLIGHT
END:VTIMEZONE
END:VCALENDAR