BEGIN:VCALENDAR
VERSION:2.0
PRODID:-//wp-events-plugin.com//7.2.3.1//EN
TZID:Europe/Berlin
X-WR-TIMEZONE:Europe/Berlin
BEGIN:VEVENT
UID:611@jedentagmusik.de
DTSTART;TZID=Europe/Berlin:20251106T170000
DTEND;TZID=Europe/Berlin:20251106T210000
DTSTAMP:20250818T084335Z
URL:https://jedentagmusik.de/fortbildungen/lieder-in-bewegung-1-wenn-liede
 r-tanzen-rostock/
SUMMARY:Lieder in Bewegung Workshop 1 - Wenn Lieder Tanzen\, Rostock
DESCRIPTION:\n"Lieder in Bewegung Workshop 1"\nReferent: Gerd Müller\n\nPr
 eis: 90€ inkl. 7% MwSt und Lieder-Heft mit CD\n\n-&gt\;Zur Fortbildungss
 eite\n\nNach der Buchung erhälst du eine automatisierte Bestätigungsmail
 .\nWenn wir deine Buchung geprüft haben\, erhälst du eine weitere Mail v
 on uns. Das Geld wird in Bar vor Ort fällig.\n\nSpezielle Wünsche\, Anme
 rkungen oder Fragen in Zusammenhang mit deiner Buchung?\nSchreib es in das
  Kommentarfeld und wir melden uns bei dir.
CATEGORIES:Gerd Müller,Wenn Lieder tanzen
LOCATION:Stadtteil- und Begegnungszentrum Dierkow\, Rostock\, Kurt-Schumach
 er-Ring 160\, Rostock\, Mecklenburg-Vorpommern\, 18146\, Mecklenburg-Vorpo
 mmern\, Deutschland
X-APPLE-STRUCTURED-LOCATION;VALUE=URI;X-ADDRESS=Kurt-Schumacher-Ring 160\, 
 Rostock\, Mecklenburg-Vorpommern\, 18146\, Mecklenburg-Vorpommern\, Deutsc
 hland;X-APPLE-RADIUS=100;X-TITLE=Stadtteil- und Begegnungszentrum Dierkow\
 , Rostock:geo:0,0
END:VEVENT
BEGIN:VTIMEZONE
TZID:Europe/Berlin
X-LIC-LOCATION:Europe/Berlin
BEGIN:STANDARD
DTSTART:20251026T020000
TZOFFSETFROM:+0200
TZOFFSETTO:+0100
TZNAME:CET
END:STANDARD
END:VTIMEZONE
END:VCALENDAR