BEGIN:VCALENDAR
VERSION:2.0
PRODID:-//wp-events-plugin.com//7.2.3.1//EN
TZID:Europe/Berlin
X-WR-TIMEZONE:Europe/Berlin
BEGIN:VEVENT
UID:393@jedentagmusik.de
DTSTART;TZID=Europe/Berlin:20230927T090000
DTEND;TZID=Europe/Berlin:20230927T130000
DTSTAMP:20230711T190959Z
URL:https://jedentagmusik.de/fortbildungen/lieder-fuer-alle-sinne-st-augus
 tin/
SUMMARY:Lieder für alle Sinne\, St. Augustin
DESCRIPTION:\n\n\n"Lieder für alle Sinne"\nReferent: Mathias Lück\n\nPrei
 s: 80€ inkl. 7% MwSt und Lieder-Heft mit CD\n\n-&gt\;Zur Fortbildungssei
 te\n\nNach der Buchung erhälst du eine automatisierte Bestätigungsmail.\
 nWenn wir deine Buchung geprüft haben\, erhälst du eine weitere Mail von
  uns mit der Rechnung über deine Buchung.\n\nSpezielle Wünsche\, Anmerku
 ngen oder Fragen in Zusammenhang mit deiner Buchung?\nSchreib es in das Ko
 mmentarfeld und wir melden uns bei dir.
CATEGORIES:Lieder für alle Sinne,Mathias Lück
LOCATION:Ev. Gemeindezentrum\, St. Augustin-Menden\, Von-Galen-Straße 28\,
  St. Augustin\, Nordrhein-Westfalen\, 53757\, Nordrhein-Westfalen\, Deutsc
 hland
X-APPLE-STRUCTURED-LOCATION;VALUE=URI;X-ADDRESS=Von-Galen-Straße 28\, St. 
 Augustin\, Nordrhein-Westfalen\, 53757\, Nordrhein-Westfalen\, Deutschland
 ;X-APPLE-RADIUS=100;X-TITLE=Ev. Gemeindezentrum\, St. Augustin-Menden:geo:
 0,0
END:VEVENT
BEGIN:VTIMEZONE
TZID:Europe/Berlin
X-LIC-LOCATION:Europe/Berlin
BEGIN:DAYLIGHT
DTSTART:20230326T030000
TZOFFSETFROM:+0100
TZOFFSETTO:+0200
TZNAME:CEST
END:DAYLIGHT
END:VTIMEZONE
END:VCALENDAR