BEGIN:VCALENDAR
VERSION:2.0
PRODID:-//wp-events-plugin.com//7.2.3.1//EN
TZID:Europe/Berlin
X-WR-TIMEZONE:Europe/Berlin
BEGIN:VEVENT
UID:255@jedentagmusik.de
DTSTART;TZID=Europe/Berlin:20221124T170000
DTEND;TZID=Europe/Berlin:20221124T210000
DTSTAMP:20220808T121243Z
URL:https://jedentagmusik.de/fortbildungen/lieder-fuer-alle-sinne-hannover
 -2/
SUMMARY:Lieder für alle Sinne\, Hannover
DESCRIPTION:\n\n\n"Lieder für alle Sinne"\nReferent: Mathias Lück\n\nPrei
 s: 80€ inkl. 7% MwSt und Lieder-Heft mit CD\n\n-&gt\;Zur Fortbildungssei
 te\n\nNach der Buchung erhälst du eine automatisierte Bestätigungsmail.\
 nWenn wir deine Buchung geprüft haben\, erhälst du eine weitere Mail von
  uns mit der Rechnung über deine Buchung.\n\nSpezielle Wünsche\, Anmerku
 ngen oder Fragen in Zusammenhang mit deiner Buchung?\nSchreib es in das Ko
 mmentarfeld und wir melden uns bei dir.
CATEGORIES:Lieder für alle Sinne,Mathias Lück
END:VEVENT
BEGIN:VTIMEZONE
TZID:Europe/Berlin
X-LIC-LOCATION:Europe/Berlin
BEGIN:STANDARD
DTSTART:20221030T020000
TZOFFSETFROM:+0200
TZOFFSETTO:+0100
TZNAME:CET
END:STANDARD
END:VTIMEZONE
END:VCALENDAR