BEGIN:VCALENDAR
VERSION:2.0
PRODID:-//wp-events-plugin.com//7.2.3.1//EN
TZID:Europe/Berlin
X-WR-TIMEZONE:Europe/Berlin
BEGIN:VEVENT
UID:392@jedentagmusik.de
DTSTART;TZID=Europe/Berlin:20230926T170000
DTEND;TZID=Europe/Berlin:20230926T210000
DTSTAMP:20230711T190817Z
URL:https://jedentagmusik.de/fortbildungen/lieder-fuer-alle-sinne-euskirch
 en/
SUMMARY:Lieder für alle Sinne\, Euskirchen
DESCRIPTION:\n\n\n"Lieder für alle Sinne"\nReferent: Mathias Lück\n\nPrei
 s: 80€ inkl. 7% MwSt und Lieder-Heft mit CD\n\n-&gt\;Zur Fortbildungssei
 te\n\nNach der Buchung erhälst du eine automatisierte Bestätigungsmail.\
 nWenn wir deine Buchung geprüft haben\, erhälst du eine weitere Mail von
  uns mit der Rechnung über deine Buchung.\n\nSpezielle Wünsche\, Anmerku
 ngen oder Fragen in Zusammenhang mit deiner Buchung?\nSchreib es in das Ko
 mmentarfeld und wir melden uns bei dir.
CATEGORIES:Lieder für alle Sinne,Mathias Lück
LOCATION:Kath. PfarrheimSt. Nikolaus\, Großbüllesheimer Straße 11\, Eusk
 irchen\, Nordrhein-Westfalen\, 53871\, Nordrhein-Westfalen\, Deutschland
X-APPLE-STRUCTURED-LOCATION;VALUE=URI;X-ADDRESS=Großbüllesheimer Straße 
 11\, Euskirchen\, Nordrhein-Westfalen\, 53871\, Nordrhein-Westfalen\, Deut
 schland;X-APPLE-RADIUS=100;X-TITLE=Kath. PfarrheimSt. Nikolaus:geo:0,0
END:VEVENT
BEGIN:VTIMEZONE
TZID:Europe/Berlin
X-LIC-LOCATION:Europe/Berlin
BEGIN:DAYLIGHT
DTSTART:20230326T030000
TZOFFSETFROM:+0100
TZOFFSETTO:+0200
TZNAME:CEST
END:DAYLIGHT
END:VTIMEZONE
END:VCALENDAR