BEGIN:VCALENDAR
VERSION:2.0
PRODID:-//wp-events-plugin.com//7.2.3.1//EN
TZID:Europe/Berlin
X-WR-TIMEZONE:Europe/Berlin
BEGIN:VEVENT
UID:145@jedentagmusik.de
DTSTART;TZID=Europe/Berlin:20220513T090000
DTEND;TZID=Europe/Berlin:20220513T130000
DTSTAMP:20220116T151033Z
URL:https://jedentagmusik.de/fortbildungen/lieder-fuer-alle-sinne-bad-cann
 stattstuttgart/
SUMMARY:Lieder für alle Sinne\, Bad Cannstatt(Stuttgart)
DESCRIPTION:\n\n\n"Lieder für alle Sinne"\nReferent: Mathias Lück\n\nPrei
 s: 70€ inkl. 7% MwSt und Lieder-Heft mit CD\n\n-&gt\;Zur Fortbildungssei
 te\n\nNach der Buchung erhälst du eine automatisierte Bestätigungsmail.\
 nWenn wir deine Buchung geprüft haben\, erhälst du eine weitere Mail von
  uns mit der Rechnung über deine Buchung.\n\nSpezielle Wünsche\, Anmerku
 ngen oder Fragen in Zusammenhang mit deiner Buchung?\nSchreib es in das Ko
 mmentarfeld und wir melden uns bei dir.
CATEGORIES:Lieder für alle Sinne,Mathias Lück
LOCATION:Kolpinghaus\, Bad Cannstatt\, Waiblinger Straße 27\, Stuttgart\, 
 Baden-Württemberg\, 70372\, Baden-Württemberg\, Deutschland
X-APPLE-STRUCTURED-LOCATION;VALUE=URI;X-ADDRESS=Waiblinger Straße 27\, Stu
 ttgart\, Baden-Württemberg\, 70372\, Baden-Württemberg\, Deutschland;X-A
 PPLE-RADIUS=100;X-TITLE=Kolpinghaus\, Bad Cannstatt:geo:0,0
END:VEVENT
BEGIN:VTIMEZONE
TZID:Europe/Berlin
X-LIC-LOCATION:Europe/Berlin
BEGIN:DAYLIGHT
DTSTART:20220327T030000
TZOFFSETFROM:+0100
TZOFFSETTO:+0200
TZNAME:CEST
END:DAYLIGHT
END:VTIMEZONE
END:VCALENDAR