BEGIN:VCALENDAR
VERSION:2.0
PRODID:-//wp-events-plugin.com//7.2.3.1//EN
TZID:Europe/Berlin
X-WR-TIMEZONE:Europe/Berlin
BEGIN:VEVENT
UID:155@jedentagmusik.de
DTSTART;TZID=Europe/Berlin:20220705T090000
DTEND;TZID=Europe/Berlin:20220705T130000
DTSTAMP:20220118T184611Z
URL:https://jedentagmusik.de/fortbildungen/im-rhythmus-der-lieder-winsen/
SUMMARY:Im Rhythmus der Lieder\, Winsen
DESCRIPTION:\n"Im Rhythmus der Lieder"\nReferent: Matthias Meyer-Göllner\n
 \nPreis: 70€ inkl. 7% MwSt und Lieder-Heft mit CD\n\n-&gt\;Zur Fortbildu
 ngsseite\n\nNach der Buchung erhälst du eine automatisierte Bestätigungs
 mail.\nWenn wir deine Buchung geprüft haben\, erhälst du eine weitere Ma
 il mit der Bestätigung für die Veranstaltung.\n\nSpezielle Wünsche\, An
 merkungen oder Fragen in Zusammenhang mit deiner Buchung?\nSchreib es in d
 as Kommentarfeld und wir melden uns bei dir.
CATEGORIES:Im Rhythmus der Lieder,Matthias Meyer-Göllner
LOCATION:St. Marien-Kirche\, Winsen\, Rathausstraße 3\, Winsen\, Niedersac
 hsen\, 21423\, Niedersachsen\, Deutschland
X-APPLE-STRUCTURED-LOCATION;VALUE=URI;X-ADDRESS=Rathausstraße 3\, Winsen\,
  Niedersachsen\, 21423\, Niedersachsen\, Deutschland;X-APPLE-RADIUS=100;X-
 TITLE=St. Marien-Kirche\, Winsen:geo:0,0
END:VEVENT
BEGIN:VTIMEZONE
TZID:Europe/Berlin
X-LIC-LOCATION:Europe/Berlin
BEGIN:DAYLIGHT
DTSTART:20220327T030000
TZOFFSETFROM:+0100
TZOFFSETTO:+0200
TZNAME:CEST
END:DAYLIGHT
END:VTIMEZONE
END:VCALENDAR