BEGIN:VCALENDAR
VERSION:2.0
PRODID:-//wp-events-plugin.com//7.2.3.1//EN
TZID:Europe/Berlin
X-WR-TIMEZONE:Europe/Berlin
BEGIN:VEVENT
UID:194@jedentagmusik.de
DTSTART;TZID=Europe/Berlin:20220322T170000
DTEND;TZID=Europe/Berlin:20220322T210000
DTSTAMP:20220207T111407Z
URL:https://jedentagmusik.de/fortbildungen/im-rhythmus-der-lieder-pinneber
 g-4/
SUMMARY:Im Rhythmus der Lieder\, Pinneberg
DESCRIPTION:\n"Im Rhythmus der Lieder"\nReferent: Matthias Meyer-Göllner\n
 \nPreis: 70€ inkl. 7% MwSt und Lieder-Heft mit CD\n\n-&gt\;Zur Fortbildu
 ngsseite\n\nNach der Buchung erhälst du eine automatisierte Bestätigungs
 mail.\nWenn wir deine Buchung geprüft haben\, erhälst du eine weitere Ma
 il mit der Bestätigung für die Veranstaltung.\n\nSpezielle Wünsche\, An
 merkungen oder Fragen in Zusammenhang mit deiner Buchung?\nSchreib es in d
 as Kommentarfeld und wir melden uns bei dir.
CATEGORIES:Im Rhythmus der Lieder,Matthias Meyer-Göllner
LOCATION:VFL Pinneberg\, Fahltskamp 53\, Pinneberg\, Schleswig-Holstein\, 2
 5421\, Schleswig-Holstein\, Deutschland
X-APPLE-STRUCTURED-LOCATION;VALUE=URI;X-ADDRESS=Fahltskamp 53\, Pinneberg\,
  Schleswig-Holstein\, 25421\, Schleswig-Holstein\, Deutschland;X-APPLE-RAD
 IUS=100;X-TITLE=VFL Pinneberg:geo:0,0
END:VEVENT
BEGIN:VTIMEZONE
TZID:Europe/Berlin
X-LIC-LOCATION:Europe/Berlin
BEGIN:STANDARD
DTSTART:20211031T020000
TZOFFSETFROM:+0200
TZOFFSETTO:+0100
TZNAME:CET
END:STANDARD
END:VTIMEZONE
END:VCALENDAR