BEGIN:VCALENDAR
VERSION:2.0
PRODID:-//wp-events-plugin.com//7.2.3.1//EN
TZID:Europe/Berlin
X-WR-TIMEZONE:Europe/Berlin
BEGIN:VEVENT
UID:138@jedentagmusik.de
DTSTART;TZID=Europe/Berlin:20220426T090000
DTEND;TZID=Europe/Berlin:20220426T130000
DTSTAMP:20220110T081758Z
URL:https://jedentagmusik.de/fortbildungen/im-rhythmus-der-lieder-magdebur
 g/
SUMMARY:Im Rhythmus der Lieder\, Magdeburg
DESCRIPTION:\n"Im Rhythmus der Lieder"\nReferent: Matthias Meyer-Göllner\n
 \nPreis: 70€ inkl. 7% MwSt und Lieder-Heft mit CD\n\n-&gt\;Zur Fortbildu
 ngsseite\n\nNach der Buchung erhälst du eine automatisierte Bestätigungs
 mail.\nWenn wir deine Buchung geprüft haben\, erhälst du eine weitere Ma
 il mit der Bestätigung für die Veranstaltung.\n\nSpezielle Wünsche\, An
 merkungen oder Fragen in Zusammenhang mit deiner Buchung?\nSchreib es in d
 as Kommentarfeld und wir melden uns bei dir.
CATEGORIES:Im Rhythmus der Lieder,Matthias Meyer-Göllner
LOCATION:Ev. Matthäusgemeinde\, Magdeburg\, Freiherr-vom-Stein-Straße 45\
 , Magdeburg\, Sachsen-Anhalt\, 39108\, Sachsen-Anhalt\, Deutschland
X-APPLE-STRUCTURED-LOCATION;VALUE=URI;X-ADDRESS=Freiherr-vom-Stein-Straße 
 45\, Magdeburg\, Sachsen-Anhalt\, 39108\, Sachsen-Anhalt\, Deutschland;X-A
 PPLE-RADIUS=100;X-TITLE=Ev. Matthäusgemeinde\, Magdeburg:geo:0,0
END:VEVENT
BEGIN:VTIMEZONE
TZID:Europe/Berlin
X-LIC-LOCATION:Europe/Berlin
BEGIN:DAYLIGHT
DTSTART:20220327T030000
TZOFFSETFROM:+0100
TZOFFSETTO:+0200
TZNAME:CEST
END:DAYLIGHT
END:VTIMEZONE
END:VCALENDAR