BEGIN:VCALENDAR
VERSION:2.0
PRODID:-//wp-events-plugin.com//7.2.3.1//EN
TZID:Europe/Berlin
X-WR-TIMEZONE:Europe/Berlin
BEGIN:VEVENT
UID:9@jedentagmusik.de
DTSTART;TZID=Europe/Berlin:20210615T090000
DTEND;TZID=Europe/Berlin:20210615T123000
DTSTAMP:20210604T110342Z
URL:https://jedentagmusik.de/fortbildungen/im-rhythmus-der-lieder-2/
SUMMARY:Im Rhythmus der Lieder Onlinefortbildung Vormittags
DESCRIPTION:\n"Im Rhythmus der Lieder"\nReferent: Matthias Meyer-Göllner\n
 \nPreis: 60€ inkl. 19% MwSt und Lieder-Heft mit CD\n\n-&gt\;Zur Fortbild
 ungsseite\n\nNach der Buchung erhälst du eine automatisierte Bestätigung
 smail.\nWenn wir deine Buchung geprüft haben\, erhälst du eine weitere M
 ail von uns mit der Rechnung über deine Buchung.\n\nSpezielle Wünsche\, 
 Anmerkungen oder Fragen in Zusammenhang mit deiner Buchung?\nSchreib es in
  das Kommentarfeld und wir melden uns bei dir.
CATEGORIES:Im Rhythmus der Lieder,Matthias Meyer-Göllner
END:VEVENT
BEGIN:VTIMEZONE
TZID:Europe/Berlin
X-LIC-LOCATION:Europe/Berlin
BEGIN:DAYLIGHT
DTSTART:20210328T030000
TZOFFSETFROM:+0100
TZOFFSETTO:+0200
TZNAME:CEST
END:DAYLIGHT
END:VTIMEZONE
END:VCALENDAR