BEGIN:VCALENDAR
VERSION:2.0
PRODID:-//wp-events-plugin.com//7.2.3.1//EN
TZID:Europe/Berlin
X-WR-TIMEZONE:Europe/Berlin
BEGIN:VEVENT
UID:538@jedentagmusik.de
DTSTART;TZID=Europe/Berlin:20241018T090000
DTEND;TZID=Europe/Berlin:20241018T130000
DTSTAMP:20240705T185443Z
URL:https://jedentagmusik.de/fortbildungen/hurra-ich-singe-und-springe-eis
 enach/
SUMMARY:Hurra\, ich singe und springe\, Eisenach
DESCRIPTION:\n"Hurra\, ich singe und springe"\nReferent: Carsten van den Be
 rg\n\nPreis: 80€ inkl. 7% MwSt und Lieder-Heft mit CD\n\n-&gt\;Zur Fortb
 ildungsseite\n\nNach der Buchung erhältst du eine automatisierte Bestäti
 gungsmail.\nWenn wir deine Buchung geprüft haben\, erhältst du eine weit
 ere Mail von uns mit der Rechnung über deine Buchung.\n\nSpezielle Wünsc
 he\, Anmerkungen oder Fragen in Zusammenhang mit deiner Buchung?\nSchreib 
 es in das Kommentarfeld und wir melden uns bei dir.
CATEGORIES:Hurra ich singe und springe
LOCATION:CVJM Eisenach e.V.\, Eisenach\, Hinter der Mauer 3\, Eisenach\, Th
 üringen\, 99817\, Thüringen\, Deutschland
X-APPLE-STRUCTURED-LOCATION;VALUE=URI;X-ADDRESS=Hinter der Mauer 3\, Eisena
 ch\, Thüringen\, 99817\, Thüringen\, Deutschland;X-APPLE-RADIUS=100;X-TI
 TLE=CVJM Eisenach e.V.\, Eisenach:geo:0,0
END:VEVENT
BEGIN:VTIMEZONE
TZID:Europe/Berlin
X-LIC-LOCATION:Europe/Berlin
BEGIN:DAYLIGHT
DTSTART:20240331T030000
TZOFFSETFROM:+0100
TZOFFSETTO:+0200
TZNAME:CEST
END:DAYLIGHT
END:VTIMEZONE
END:VCALENDAR