BEGIN:VCALENDAR
VERSION:2.0
PRODID:-//wp-events-plugin.com//7.2.3.1//EN
TZID:Europe/Berlin
X-WR-TIMEZONE:Europe/Berlin
BEGIN:VEVENT
UID:304@jedentagmusik.de
DTSTART;TZID=Europe/Berlin:20230616T090000
DTEND;TZID=Europe/Berlin:20230616T130000
DTSTAMP:20230103T142557Z
URL:https://jedentagmusik.de/fortbildungen/ene-mene-muh-neunkirchen/
SUMMARY:Ene\, Mene\, Muh - Neunkirchen
DESCRIPTION:\n"Ene\, Mene\, Muh"\nReferent: Matthias Meyer-Göllner\n\nPrei
 s: 80€ inkl. 7% MwSt und Lieder-Heft mit CD\n\n-&gt\;Zur Fortbildungssei
 te\n\nNach der Buchung erhälst du eine automatisierte Bestätigungsmail.\
 nWenn wir deine Buchung geprüft haben\, erhälst du eine weitere Mail mit
  der Bestätigung für die Veranstaltung. Dies kann etwas Zeit in Anspruch
  nehmen.\n\nSpezielle Wünsche\, Anmerkungen oder Fragen in Zusammenhang m
 it deiner Buchung?\nSchreib es in das Kommentarfeld und wir melden uns bei
  dir.
CATEGORIES:Ene.,Matthias Meyer-Göllner
LOCATION:Ev. Gemeindezentrum\, Neunkirchen-Wellesweiler\, Ernst-Blum-Straß
 e 13\, Neunkirchen-Wellesweiler\, Rheinland-Pfalz\, 66539\, Rheinland-Pfal
 z\, Deutschland
X-APPLE-STRUCTURED-LOCATION;VALUE=URI;X-ADDRESS=Ernst-Blum-Straße 13\, Neu
 nkirchen-Wellesweiler\, Rheinland-Pfalz\, 66539\, Rheinland-Pfalz\, Deutsc
 hland;X-APPLE-RADIUS=100;X-TITLE=Ev. Gemeindezentrum\, Neunkirchen-Wellesw
 eiler:geo:0,0
END:VEVENT
BEGIN:VTIMEZONE
TZID:Europe/Berlin
X-LIC-LOCATION:Europe/Berlin
BEGIN:DAYLIGHT
DTSTART:20230326T030000
TZOFFSETFROM:+0100
TZOFFSETTO:+0200
TZNAME:CEST
END:DAYLIGHT
END:VTIMEZONE
END:VCALENDAR