BEGIN:VCALENDAR
VERSION:2.0
PRODID:-//wp-events-plugin.com//7.2.3.1//EN
TZID:Europe/Berlin
X-WR-TIMEZONE:Europe/Berlin
BEGIN:VEVENT
UID:353@jedentagmusik.de
DTSTART;TZID=Europe/Berlin:20231109T170000
DTEND;TZID=Europe/Berlin:20231109T210000
DTSTAMP:20230704T053424Z
URL:https://jedentagmusik.de/fortbildungen/ene-mene-muh-in-neubrandenburg/
SUMMARY:Ene\, Mene\, Muh in Neubrandenburg
DESCRIPTION:\n"Ene\, Mene\, Muh"\nReferent: Matthias Meyer-Göllner\n\nPrei
 s: 80€ inkl. 7% MwSt und Lieder-Heft mit CD\n\n-&gt\;Zur Fortbildungssei
 te\n\nNach der Buchung erhälst du eine automatisierte Bestätigungsmail.\
 nWenn wir deine Buchung geprüft haben\, erhälst du eine weitere Mail mit
  der Bestätigung für die Veranstaltung.\n\nSpezielle Wünsche\, Anmerkun
 gen oder Fragen in Zusammenhang mit deiner Buchung?\nSchreib es in das Kom
 mentarfeld und wir melden uns bei dir.
CATEGORIES:Ene.,Matthias Meyer-Göllner
LOCATION:Ev.-Luth. Kirchengemeinde\, Semmelweisstraße 50\, Neubrandenburg\
 , Mecklenburg-Vorpommern\, 17036\, Mecklenburg-Vorpommern\, Deutschland
X-APPLE-STRUCTURED-LOCATION;VALUE=URI;X-ADDRESS=Semmelweisstraße 50\, Neub
 randenburg\, Mecklenburg-Vorpommern\, 17036\, Mecklenburg-Vorpommern\, Deu
 tschland;X-APPLE-RADIUS=100;X-TITLE=Ev.-Luth. Kirchengemeinde:geo:0,0
END:VEVENT
BEGIN:VTIMEZONE
TZID:Europe/Berlin
X-LIC-LOCATION:Europe/Berlin
BEGIN:STANDARD
DTSTART:20231029T020000
TZOFFSETFROM:+0200
TZOFFSETTO:+0100
TZNAME:CET
END:STANDARD
END:VTIMEZONE
END:VCALENDAR