BEGIN:VCALENDAR
VERSION:2.0
PRODID:-//wp-events-plugin.com//7.2.3.1//EN
TZID:Europe/Berlin
X-WR-TIMEZONE:Europe/Berlin
BEGIN:VEVENT
UID:465@jedentagmusik.de
DTSTART;TZID=Europe/Berlin:20240426T090000
DTEND;TZID=Europe/Berlin:20240426T130000
DTSTAMP:20240123T074337Z
URL:https://jedentagmusik.de/fortbildungen/ene-mene-muh-esslingen/
SUMMARY:Ene\, Mene\, Muh - Esslingen
DESCRIPTION:\n"Ene\, Mene\, Muh"\nReferent: Matthias Meyer-Göllner\n\nPrei
 s: 80€ inkl. 7% MwSt und Lieder-Heft mit CD\n\n-&gt\;Zur Fortbildungssei
 te\n\nNach der Buchung erhälst du eine automatisierte Bestätigungsmail.\
 nWenn wir deine Buchung geprüft haben\, erhälst du eine weitere Mail mit
  der Bestätigung für die Veranstaltung.\n\nSpezielle Wünsche\, Anmerkun
 gen oder Fragen in Zusammenhang mit deiner Buchung?\nSchreib es in das Kom
 mentarfeld und wir melden uns bei dir.
CATEGORIES:Ene.,Matthias Meyer-Göllner
LOCATION:Bürgerhaus RSKN\, Esslingen\, Sulzgrieser Straße 170\, Esslingen
 \, Baden-Württemberg\, 73733\, Baden-Württemberg\, Deutschland
X-APPLE-STRUCTURED-LOCATION;VALUE=URI;X-ADDRESS=Sulzgrieser Straße 170\, E
 sslingen\, Baden-Württemberg\, 73733\, Baden-Württemberg\, Deutschland;X
 -APPLE-RADIUS=100;X-TITLE=Bürgerhaus RSKN\, Esslingen:geo:0,0
END:VEVENT
BEGIN:VTIMEZONE
TZID:Europe/Berlin
X-LIC-LOCATION:Europe/Berlin
BEGIN:DAYLIGHT
DTSTART:20240331T030000
TZOFFSETFROM:+0100
TZOFFSETTO:+0200
TZNAME:CEST
END:DAYLIGHT
END:VTIMEZONE
END:VCALENDAR