BEGIN:VCALENDAR
VERSION:2.0
PRODID:-//wp-events-plugin.com//7.2.3.1//EN
TZID:Europe/Berlin
X-WR-TIMEZONE:Europe/Berlin
BEGIN:VEVENT
UID:167@jedentagmusik.de
DTSTART;TZID=Europe/Berlin:20220518T090000
DTEND;TZID=Europe/Berlin:20220518T130000
DTSTAMP:20220127T080904Z
URL:https://jedentagmusik.de/fortbildungen/30-jahre-spunk-guenzburg/
SUMMARY:Lieder in Bewegung 6\, Günzburg
DESCRIPTION:\n"Lieder in Bewegung 6"\nReferent: Gerd Müller\n\nPreis: 70
 € inkl. 7% MwSt und Lieder-Heft mit CD\n\n-&gt\;Zur Fortbildungsseite\n\
 nNach der Buchung erhälst du eine automatisierte Bestätigungsmail.\nWenn
  wir deine Buchung geprüft haben\, erhälst du eine weitere Mail von uns 
 mit der Rechnung über deine Buchung.\n\nSpezielle Wünsche\, Anmerkungen 
 oder Fragen in Zusammenhang mit deiner Buchung?\nSchreib es in das Komment
 arfeld und wir melden uns bei dir.
CATEGORIES:30 Jahre musikalische Fortbildungen,Gerd Müller
LOCATION:Ev. Gemeindehaus\, Günzburg\, Feuchtmayerstraße 8\, Günzburg\, 
 Bayern\, 89312\, Bayern\, Deutschland
X-APPLE-STRUCTURED-LOCATION;VALUE=URI;X-ADDRESS=Feuchtmayerstraße 8\, Gün
 zburg\, Bayern\, 89312\, Bayern\, Deutschland;X-APPLE-RADIUS=100;X-TITLE=E
 v. Gemeindehaus\, Günzburg:geo:0,0
END:VEVENT
BEGIN:VTIMEZONE
TZID:Europe/Berlin
X-LIC-LOCATION:Europe/Berlin
BEGIN:DAYLIGHT
DTSTART:20220327T030000
TZOFFSETFROM:+0100
TZOFFSETTO:+0200
TZNAME:CEST
END:DAYLIGHT
END:VTIMEZONE
END:VCALENDAR